BEGIN:VCALENDAR
VERSION:2.0
PRODID:icalendar-ruby
CALSCALE:GREGORIAN
METHOD:PUBLISH
BEGIN:VEVENT
DTSTAMP:20260424T121233Z
UID:f2c6be3b-a404-48b8-a3c5-9c98e4c11925
DTSTART;VALUE=DATE:20190314
DTEND;VALUE=DATE:20190314
DESCRIPTION:Miami South BMX
LOCATION:13050 Sw 216th Street  Miami FL 33170 USA
SUMMARY:Standard Single Single
URL:/site/bmx_races/392292
END:VEVENT
END:VCALENDAR
