BEGIN:VCALENDAR
VERSION:2.0
PRODID:icalendar-ruby
CALSCALE:GREGORIAN
METHOD:PUBLISH
BEGIN:VEVENT
DTSTAMP:20260424T102929Z
UID:54a7ccb5-68cb-4bf7-85fc-5774dbb351b1
DTSTART;VALUE=DATE:20181022
DTEND;VALUE=DATE:20181022
DESCRIPTION:Burdette Park BMX
LOCATION:5821 Nurrenbern Rd  Evansville IN 47712 USA
SUMMARY:Standard Single Single
URL:/site/bmx_races/391815
END:VEVENT
END:VCALENDAR
