BEGIN:VCALENDAR
VERSION:2.0
PRODID:icalendar-ruby
CALSCALE:GREGORIAN
METHOD:PUBLISH
BEGIN:VEVENT
DTSTAMP:20260424T233935Z
UID:f34eef7a-e2bb-4038-926c-22e93929451c
DTSTART;VALUE=DATE:20190725
DTEND;VALUE=DATE:20190725
DESCRIPTION:Akron BMX
LOCATION:800 Derby Downs Drive  Akron OH 44306 USA
SUMMARY:Standard Single Single
URL:/site/bmx_races/391164
END:VEVENT
END:VCALENDAR
