BEGIN:VCALENDAR
VERSION:2.0
PRODID:icalendar-ruby
CALSCALE:GREGORIAN
METHOD:PUBLISH
BEGIN:VEVENT
DTSTAMP:20260424T101329Z
UID:d75c0b80-026f-4577-a059-5d1a3ff4ef46
DTSTART;VALUE=DATE:20190606
DTEND;VALUE=DATE:20190606
DESCRIPTION:Akron BMX
LOCATION:800 Derby Downs Drive  Akron OH 44306 USA
SUMMARY:Standard Single Single
URL:/site/bmx_races/391150
END:VEVENT
END:VCALENDAR
