BEGIN:VCALENDAR
VERSION:2.0
PRODID:icalendar-ruby
CALSCALE:GREGORIAN
METHOD:PUBLISH
BEGIN:VEVENT
DTSTAMP:20260425T131328Z
UID:1815f6b4-5343-4c73-b4bd-ab2269777832
DTSTART;VALUE=DATE:20181104
DTEND;VALUE=DATE:20181104
DESCRIPTION:Richfield Park BMX
LOCATION:6550 N Irish Road  Davison MI 48423 USA
SUMMARY:Standard Single Single
URL:/site/bmx_races/391136
END:VEVENT
END:VCALENDAR
