BEGIN:VCALENDAR
VERSION:2.0
PRODID:icalendar-ruby
CALSCALE:GREGORIAN
METHOD:PUBLISH
BEGIN:VEVENT
DTSTAMP:20260425T204013Z
UID:2d9a85da-444c-40b6-815d-6459809c67b1
DTSTART;VALUE=DATE:20190303
DTEND;VALUE=DATE:20190303
DESCRIPTION:Abbotsford Indoor BMX
LOCATION:32470 Haida Drive  Abbotsford BC  CAN
SUMMARY:Standard Single Single
URL:/site/bmx_races/390900
END:VEVENT
END:VCALENDAR
