BEGIN:VCALENDAR
VERSION:2.0
PRODID:icalendar-ruby
CALSCALE:GREGORIAN
METHOD:PUBLISH
BEGIN:VEVENT
DTSTAMP:20260425T231627Z
UID:c2db98fc-d08d-4e31-9200-0261f9b50cd3
DTSTART;VALUE=DATE:20180728
DTEND;VALUE=DATE:20180728
DESCRIPTION:County Line BMX
LOCATION:8560 South Colorado Blvd  Centennial CO 80126 USA
SUMMARY:Warnicke Single
URL:/site/bmx_races/390709
END:VEVENT
END:VCALENDAR
