BEGIN:VCALENDAR
VERSION:2.0
PRODID:icalendar-ruby
CALSCALE:GREGORIAN
METHOD:PUBLISH
BEGIN:VEVENT
DTSTAMP:20260424T141709Z
UID:c415817b-a893-47b4-b7bb-47cbf24da837
DTSTART;VALUE=DATE:20181021
DTEND;VALUE=DATE:20181021
DESCRIPTION:Mile High BMX
LOCATION:3606 S Independence St  Denver CO 80235 USA
SUMMARY:Warnicke Single
URL:/site/bmx_races/390611
END:VEVENT
END:VCALENDAR
