BEGIN:VCALENDAR
VERSION:2.0
PRODID:icalendar-ruby
CALSCALE:GREGORIAN
METHOD:PUBLISH
BEGIN:VEVENT
DTSTAMP:20260426T011147Z
UID:2ed9cdb9-b6c6-40fa-afdb-4b75c2b04c62
DTSTART;VALUE=DATE:20181116
DTEND;VALUE=DATE:20181116
DESCRIPTION:Peninsula Indoor BMX
LOCATION:5867 Dogwood Road Se  Port Orchard WA 98367 USA
SUMMARY:Standard Single Single
URL:/site/bmx_races/390580
END:VEVENT
END:VCALENDAR
