BEGIN:VCALENDAR
VERSION:2.0
PRODID:icalendar-ruby
CALSCALE:GREGORIAN
METHOD:PUBLISH
BEGIN:VEVENT
DTSTAMP:20260424T160810Z
UID:f64bbe0d-6abf-4b69-94f6-9bf2ee6f416d
DTSTART;VALUE=DATE:20190310
DTEND;VALUE=DATE:20190310
DESCRIPTION:Idaho Indoor BMX
LOCATION:111 S 22nd St  Caldwell ID 83605 USA
SUMMARY:Earned Double
URL:/site/bmx_races/390276
END:VEVENT
END:VCALENDAR
