BEGIN:VCALENDAR
VERSION:2.0
PRODID:icalendar-ruby
CALSCALE:GREGORIAN
METHOD:PUBLISH
BEGIN:VEVENT
DTSTAMP:20260425T161156Z
UID:07ba8f8b-dca3-4fae-af6d-ca7670141504
DTSTART;VALUE=DATE:20190811
DTEND;VALUE=DATE:20190811
DESCRIPTION:Grand Valley BMX
LOCATION:2785 U.S. Highway 50  Grand Junction CO 81503 USA
SUMMARY:Standard Single Single
URL:/site/bmx_races/390250
END:VEVENT
END:VCALENDAR
