BEGIN:VCALENDAR
VERSION:2.0
PRODID:icalendar-ruby
CALSCALE:GREGORIAN
METHOD:PUBLISH
BEGIN:VEVENT
DTSTAMP:20260425T191029Z
UID:7639a9c2-000f-4365-ab0e-378563a314cf
DTSTART;VALUE=DATE:20190512
DTEND;VALUE=DATE:20190512
DESCRIPTION:Grand Valley BMX
LOCATION:2785 U.S. Highway 50  Grand Junction CO 81503 USA
SUMMARY:Standard Single Single
URL:/site/bmx_races/390237
END:VEVENT
END:VCALENDAR
