BEGIN:VCALENDAR
VERSION:2.0
PRODID:icalendar-ruby
CALSCALE:GREGORIAN
METHOD:PUBLISH
BEGIN:VEVENT
DTSTAMP:20260424T063221Z
UID:2ada64f1-69e1-4996-8658-31ebb7d65f48
DTSTART;VALUE=DATE:20190210
DTEND;VALUE=DATE:20190210
DESCRIPTION:Steel Wheels Indoor BMX
LOCATION:709 N Hobart Rd  Hobart IN 46350 USA
SUMMARY:Qualifier Triple
URL:/site/bmx_races/390149
END:VEVENT
END:VCALENDAR
