BEGIN:VCALENDAR
VERSION:2.0
PRODID:icalendar-ruby
CALSCALE:GREGORIAN
METHOD:PUBLISH
BEGIN:VEVENT
DTSTAMP:20260425T021526Z
UID:80bd2165-cdaf-4f57-b8a8-5dfcf362366f
DTSTART;VALUE=DATE:20190328
DTEND;VALUE=DATE:20190328
DESCRIPTION:Steel Wheels Indoor BMX
LOCATION:709 N Hobart Rd  Hobart IN 46350 USA
SUMMARY:Standard Single Single
URL:/site/bmx_races/389636
END:VEVENT
END:VCALENDAR
