BEGIN:VCALENDAR
VERSION:2.0
PRODID:icalendar-ruby
CALSCALE:GREGORIAN
METHOD:PUBLISH
BEGIN:VEVENT
DTSTAMP:20260424T141941Z
UID:3a4565bb-3fd8-46ea-8f9d-32ea2f3ca3ad
DTSTART;VALUE=DATE:20190110
DTEND;VALUE=DATE:20190110
DESCRIPTION:Steel Wheels Indoor BMX
LOCATION:709 N Hobart Rd  Hobart IN 46350 USA
SUMMARY:Standard Single Single
URL:/site/bmx_races/389603
END:VEVENT
END:VCALENDAR
