BEGIN:VCALENDAR
VERSION:2.0
PRODID:icalendar-ruby
CALSCALE:GREGORIAN
METHOD:PUBLISH
BEGIN:VEVENT
DTSTAMP:20260424T102919Z
UID:a610bb0a-98af-4b37-adcd-41500cb6ec87
DTSTART;VALUE=DATE:20180916
DTEND;VALUE=DATE:20180916
DESCRIPTION:Central Wisconsin BMX
LOCATION:2220 E Riverview Expy\,  Wisconsin Rapids WI 54494 USA
SUMMARY:Standard Single Single
URL:/site/bmx_races/389224
END:VEVENT
END:VCALENDAR
