BEGIN:VCALENDAR
VERSION:2.0
PRODID:icalendar-ruby
CALSCALE:GREGORIAN
METHOD:PUBLISH
BEGIN:VEVENT
DTSTAMP:20260424T141352Z
UID:9f4b0f47-4670-4972-9e03-cbaf9d9bbd1f
DTSTART;VALUE=DATE:20181117
DTEND;VALUE=DATE:20181117
DESCRIPTION:Rum River BMX
LOCATION:Isanti Parkway Northwest  Isanti MN 55040 USA
SUMMARY:Standard Single Single
URL:/site/bmx_races/388989
END:VEVENT
END:VCALENDAR
