BEGIN:VCALENDAR
VERSION:2.0
PRODID:icalendar-ruby
CALSCALE:GREGORIAN
METHOD:PUBLISH
BEGIN:VEVENT
DTSTAMP:20260424T201303Z
UID:921c732c-2c8a-4b3e-a173-df70f8dd39b8
DTSTART;VALUE=DATE:20180804
DTEND;VALUE=DATE:20180804
DESCRIPTION:Emerald Valley BMX
LOCATION:2715 Leo Harris Pkwy  Eugene OR 97402 USA
SUMMARY:Standard Single Single
URL:/site/bmx_races/388845
END:VEVENT
END:VCALENDAR
