BEGIN:VCALENDAR
VERSION:2.0
PRODID:icalendar-ruby
CALSCALE:GREGORIAN
METHOD:PUBLISH
BEGIN:VEVENT
DTSTAMP:20260425T024708Z
UID:007cff4f-cf3d-4fec-9765-f60b6a99aa79
DTSTART;VALUE=DATE:20180723
DTEND;VALUE=DATE:20180723
DESCRIPTION:Bellflower BMX
LOCATION:9030 Somerset Blvd  Bellflower CA 90706 USA
SUMMARY:Standard Single Single
URL:/site/bmx_races/388145
END:VEVENT
END:VCALENDAR
