BEGIN:VCALENDAR
VERSION:2.0
PRODID:icalendar-ruby
CALSCALE:GREGORIAN
METHOD:PUBLISH
BEGIN:VEVENT
DTSTAMP:20260425T113616Z
UID:16699913-9f49-4678-8fce-a22840e711c8
DTSTART;VALUE=DATE:20180824
DTEND;VALUE=DATE:20180824
DESCRIPTION:Wolfe Creek BMX
LOCATION:22843 Creek Road  Chatham ON  CAN
SUMMARY:Race For Life Single
URL:/site/bmx_races/387786
END:VEVENT
END:VCALENDAR
