BEGIN:VCALENDAR
VERSION:2.0
PRODID:icalendar-ruby
CALSCALE:GREGORIAN
METHOD:PUBLISH
BEGIN:VEVENT
DTSTAMP:20260424T084410Z
UID:928f0926-9168-4a4d-9d94-ef942ed62f87
DTSTART;VALUE=DATE:20180821
DTEND;VALUE=DATE:20180821
DESCRIPTION:Westmoreland BMX
LOCATION:200 Park Road  Apollo PA 15613 USA
SUMMARY:Standard Single Single
URL:/site/bmx_races/387763
END:VEVENT
END:VCALENDAR
