BEGIN:VCALENDAR
VERSION:2.0
PRODID:icalendar-ruby
CALSCALE:GREGORIAN
METHOD:PUBLISH
BEGIN:VEVENT
DTSTAMP:20260425T125358Z
UID:31bd4bd6-f53e-4c44-9833-ca4779fe005b
DTSTART;VALUE=DATE:20180829
DTEND;VALUE=DATE:20180829
DESCRIPTION:Daytona BMX
LOCATION:1670 Strickland Range Rd  Holly Hill FL 32117 USA
SUMMARY:Standard Single Single
URL:/site/bmx_races/387545
END:VEVENT
END:VCALENDAR
