BEGIN:VCALENDAR
VERSION:2.0
PRODID:icalendar-ruby
CALSCALE:GREGORIAN
METHOD:PUBLISH
BEGIN:VEVENT
DTSTAMP:20260424T190000Z
UID:cad1b96d-ae7c-46ff-a3b3-9302ef5de45c
DTSTART;VALUE=DATE:20180506
DTEND;VALUE=DATE:20180506
DESCRIPTION:Billerica BMX
LOCATION:270 Treble Cove Rd  Billerica MA 01821 USA
SUMMARY:Standard Single Single
URL:/site/bmx_races/386778
END:VEVENT
END:VCALENDAR
