BEGIN:VCALENDAR
VERSION:2.0
PRODID:icalendar-ruby
CALSCALE:GREGORIAN
METHOD:PUBLISH
BEGIN:VEVENT
DTSTAMP:20260424T230057Z
UID:00bf90a4-a10e-47d6-8065-fc3b348985bd
DTSTART;VALUE=DATE:20180623
DTEND;VALUE=DATE:20180623
DESCRIPTION:HD BMX
LOCATION:17427 Live Oak St  Hesperia CA 92345 USA
SUMMARY:Olympic Single
URL:/site/bmx_races/386681
END:VEVENT
END:VCALENDAR
