BEGIN:VCALENDAR
VERSION:2.0
PRODID:icalendar-ruby
CALSCALE:GREGORIAN
METHOD:PUBLISH
BEGIN:VEVENT
DTSTAMP:20260423T035808Z
UID:a2eb372a-5171-4244-90b6-b28a71020015
DTSTART;VALUE=DATE:20180807
DTEND;VALUE=DATE:20180807
DESCRIPTION:Green Lake BMX
LOCATION:221 W South Street   Spicer MN 56288 USA
SUMMARY:Practice
URL:/site/bmx_races/386333
END:VEVENT
END:VCALENDAR
