BEGIN:VCALENDAR
VERSION:2.0
PRODID:icalendar-ruby
CALSCALE:GREGORIAN
METHOD:PUBLISH
BEGIN:VEVENT
DTSTAMP:20260423T053125Z
UID:462fd5d5-29e0-49c0-b6e0-158b39cf113b
DTSTART;VALUE=DATE:20180731
DTEND;VALUE=DATE:20180731
DESCRIPTION:Green Lake BMX
LOCATION:221 W South Street   Spicer MN 56288 USA
SUMMARY:Practice
URL:/site/bmx_races/386331
END:VEVENT
END:VCALENDAR
