BEGIN:VCALENDAR
VERSION:2.0
PRODID:icalendar-ruby
CALSCALE:GREGORIAN
METHOD:PUBLISH
BEGIN:VEVENT
DTSTAMP:20260424T154516Z
UID:01e31182-86b0-4515-a38f-3b98d6247678
DTSTART;VALUE=DATE:20180629
DTEND;VALUE=DATE:20180629
DESCRIPTION:Cherry Hill Park BMX
LOCATION:1727 N 15th St  Coeur D`Alene ID 83814 USA
SUMMARY:Race for Life Double
URL:/site/bmx_races/385759
END:VEVENT
END:VCALENDAR
