BEGIN:VCALENDAR
VERSION:2.0
PRODID:icalendar-ruby
CALSCALE:GREGORIAN
METHOD:PUBLISH
BEGIN:VEVENT
DTSTAMP:20260424T102928Z
UID:bb28b8b3-4df2-44ca-aa47-44af80a77b8b
DTSTART;VALUE=DATE:20180707
DTEND;VALUE=DATE:20180707
DESCRIPTION:Chehalem Valley BMX
LOCATION:1201 Blaine St  Newberg OR 97132 USA
SUMMARY:Standard Single Single
URL:/site/bmx_races/385689
END:VEVENT
END:VCALENDAR
