BEGIN:VCALENDAR
VERSION:2.0
PRODID:icalendar-ruby
CALSCALE:GREGORIAN
METHOD:PUBLISH
BEGIN:VEVENT
DTSTAMP:20260424T092749Z
UID:9d7535a2-94ee-4cbf-9617-23fdf6dccedd
DTSTART;VALUE=DATE:20180715
DTEND;VALUE=DATE:20180715
DESCRIPTION:Central Jersey BMX
LOCATION:2449 U.S. 9  Howell NJ 7731 USA
SUMMARY:Race For Life Double Double
URL:/site/bmx_races/385179
END:VEVENT
END:VCALENDAR
