BEGIN:VCALENDAR
VERSION:2.0
PRODID:icalendar-ruby
CALSCALE:GREGORIAN
METHOD:PUBLISH
BEGIN:VEVENT
DTSTAMP:20260424T190150Z
UID:1f9bf533-3e0f-42ad-a8b9-4dbe1515c241
DTSTART;VALUE=DATE:20180202
DTEND;VALUE=DATE:20180202
DESCRIPTION:San Diego BMX
LOCATION:3170 Armstrong Street Behind Kearny Mesa Recreation Center San Die
 go CA 92111 USA
SUMMARY:Standard Single Single
URL:/site/bmx_races/385062
END:VEVENT
END:VCALENDAR
