BEGIN:VCALENDAR
VERSION:2.0
PRODID:icalendar-ruby
CALSCALE:GREGORIAN
METHOD:PUBLISH
BEGIN:VEVENT
DTSTAMP:20260425T010647Z
UID:c6b4d355-a0b9-44e7-9b11-6d5e62a971e1
DTSTART;VALUE=DATE:20180705
DTEND;VALUE=DATE:20180705
DESCRIPTION:Abbotsford BMX
LOCATION:32470 Haida Drive  Abbotsford BC V2T5A6 CAN
SUMMARY:Standard Single Single
URL:/site/bmx_races/385000
END:VEVENT
END:VCALENDAR
