BEGIN:VCALENDAR
VERSION:2.0
PRODID:icalendar-ruby
CALSCALE:GREGORIAN
METHOD:PUBLISH
BEGIN:VEVENT
DTSTAMP:20260424T220423Z
UID:d2f68055-ec03-4821-a773-777ecfde1959
DTSTART;VALUE=DATE:20180724
DTEND;VALUE=DATE:20180724
DESCRIPTION:Whistler BMX
LOCATION:Bayly Park   1015 Jane Lakes Rd. Whistler BC V0N 1B1 CAN
SUMMARY:Standard Single Single
URL:/site/bmx_races/384962
END:VEVENT
END:VCALENDAR
