BEGIN:VCALENDAR
VERSION:2.0
PRODID:icalendar-ruby
CALSCALE:GREGORIAN
METHOD:PUBLISH
BEGIN:VEVENT
DTSTAMP:20260425T171936Z
UID:393bd87e-b79b-484d-999a-6a7d9204db86
DTSTART;VALUE=DATE:20180510
DTEND;VALUE=DATE:20180510
DESCRIPTION:TRI CITY BMX
LOCATION:3710 30th Ave  Kearney NE 68845 USA
SUMMARY:Standard Single Single
URL:/site/bmx_races/384815
END:VEVENT
END:VCALENDAR
