BEGIN:VCALENDAR
VERSION:2.0
PRODID:icalendar-ruby
CALSCALE:GREGORIAN
METHOD:PUBLISH
BEGIN:VEVENT
DTSTAMP:20260424T141740Z
UID:2af71ad8-7d36-48b9-82ac-eca38eb01ee3
DTSTART;VALUE=DATE:20180611
DTEND;VALUE=DATE:20180611
DESCRIPTION:Cross Creek BMX
LOCATION:8115 Parkglen Dr.  Fountain CO 80817 USA
SUMMARY:Standard Single Single
URL:/site/bmx_races/384289
END:VEVENT
END:VCALENDAR
