BEGIN:VCALENDAR
VERSION:2.0
PRODID:icalendar-ruby
CALSCALE:GREGORIAN
METHOD:PUBLISH
BEGIN:VEVENT
DTSTAMP:20260424T172254Z
UID:d3df5dd0-5c03-4c02-aff1-b1d1e491c6c4
DTSTART;VALUE=DATE:20180401
DTEND;VALUE=DATE:20180401
DESCRIPTION:Goodyear BMX Raceway
LOCATION:15660 W Roeser Rd  Goodyear AZ 85338 USA
SUMMARY:Standard Single Single
URL:/site/bmx_races/383453
END:VEVENT
END:VCALENDAR
