BEGIN:VCALENDAR
VERSION:2.0
PRODID:icalendar-ruby
CALSCALE:GREGORIAN
METHOD:PUBLISH
BEGIN:VEVENT
DTSTAMP:20260424T121235Z
UID:a8d8fa54-cfec-4835-934b-3c7a7005668e
DTSTART;VALUE=DATE:20180701
DTEND;VALUE=DATE:20180701
DESCRIPTION:Cajun BMX Park
LOCATION:301 Rue Fosse  Lafayette LA 70508 USA
SUMMARY:Standard Single Single
URL:/site/bmx_races/382687
END:VEVENT
END:VCALENDAR
