BEGIN:VCALENDAR
VERSION:2.0
PRODID:icalendar-ruby
CALSCALE:GREGORIAN
METHOD:PUBLISH
BEGIN:VEVENT
DTSTAMP:20260424T220313Z
UID:ca50f1ac-bc1b-46ec-81c6-cd4713a99a18
DTSTART;VALUE=DATE:20130615
DTEND;VALUE=DATE:20130615
DESCRIPTION:Seatac BMX
LOCATION:1855 S 136th St  Sea Tac WA 98168 USA
SUMMARY:Local Race Single
URL:/site/bmx_races/38203
END:VEVENT
END:VCALENDAR
