BEGIN:VCALENDAR
VERSION:2.0
PRODID:icalendar-ruby
CALSCALE:GREGORIAN
METHOD:PUBLISH
BEGIN:VEVENT
DTSTAMP:20260424T104325Z
UID:e189012d-09e3-43ef-9b4b-57472fe0b67f
DTSTART;VALUE=DATE:20180514
DTEND;VALUE=DATE:20180514
DESCRIPTION:Interstate BMX
LOCATION:2600 Fairgrounds Blvd  Kingman AZ 86401 USA
SUMMARY:Standard Single Single
URL:/site/bmx_races/381984
END:VEVENT
END:VCALENDAR
