BEGIN:VCALENDAR
VERSION:2.0
PRODID:icalendar-ruby
CALSCALE:GREGORIAN
METHOD:PUBLISH
BEGIN:VEVENT
DTSTAMP:20260424T104327Z
UID:5a53beda-32e1-40ae-9946-f9a67aca25ea
DTSTART;VALUE=DATE:20180507
DTEND;VALUE=DATE:20180507
DESCRIPTION:Interstate BMX
LOCATION:2600 Fairgrounds Blvd  Kingman AZ 86401 USA
SUMMARY:Standard Single Single
URL:/site/bmx_races/381983
END:VEVENT
END:VCALENDAR
