BEGIN:VCALENDAR
VERSION:2.0
PRODID:icalendar-ruby
CALSCALE:GREGORIAN
METHOD:PUBLISH
BEGIN:VEVENT
DTSTAMP:20260424T131333Z
UID:319c7bbc-f74b-4750-9f82-8668a2c58539
DTSTART;VALUE=DATE:20180106
DTEND;VALUE=DATE:20180106
DESCRIPTION:Cabot BMX
LOCATION:2351 Willie Ray Road  Cabot AR 72023 USA
SUMMARY:Standard Single Single
URL:/site/bmx_races/381964
END:VEVENT
END:VCALENDAR
