BEGIN:VCALENDAR
VERSION:2.0
PRODID:icalendar-ruby
CALSCALE:GREGORIAN
METHOD:PUBLISH
BEGIN:VEVENT
DTSTAMP:20260425T144132Z
UID:caed51fc-9490-49d9-945b-2000b23446fb
DTSTART;VALUE=DATE:20180331
DTEND;VALUE=DATE:20180331
DESCRIPTION:ORL BMX
LOCATION:4801 W Colonial Dr  Orlando FL 32808 USA
SUMMARY:Standard Single Single
URL:/site/bmx_races/381952
END:VEVENT
END:VCALENDAR
