BEGIN:VCALENDAR
VERSION:2.0
PRODID:icalendar-ruby
CALSCALE:GREGORIAN
METHOD:PUBLISH
BEGIN:VEVENT
DTSTAMP:20260425T202116Z
UID:71fe573a-3f56-48f1-ae20-dc86869f6ec4
DTSTART;VALUE=DATE:20180624
DTEND;VALUE=DATE:20180624
DESCRIPTION:Coal Hills BMX
LOCATION:2815 Dunsmuir Ave  Cumberland BC V0R1S0 CAN
SUMMARY:Olympic Single
URL:/site/bmx_races/381323
END:VEVENT
END:VCALENDAR
