BEGIN:VCALENDAR
VERSION:2.0
PRODID:icalendar-ruby
CALSCALE:GREGORIAN
METHOD:PUBLISH
BEGIN:VEVENT
DTSTAMP:20260424T184616Z
UID:8f69eb4a-3e47-4a38-b942-aeab29b6134b
DTSTART;VALUE=DATE:20180404
DTEND;VALUE=DATE:20180404
DESCRIPTION:Rogue Valley BMX
LOCATION:Highland Drive  Medford OR 97504 USA
SUMMARY:Standard Single Single
URL:/site/bmx_races/381277
END:VEVENT
END:VCALENDAR
