BEGIN:VCALENDAR
VERSION:2.0
PRODID:icalendar-ruby
CALSCALE:GREGORIAN
METHOD:PUBLISH
BEGIN:VEVENT
DTSTAMP:20260424T141350Z
UID:111e781b-e664-42b8-b552-be1acecd648b
DTSTART;VALUE=DATE:20180624
DTEND;VALUE=DATE:20180624
DESCRIPTION:East Moline BMX
LOCATION:1930 Avenue Of The Cities  East Moline IL 61241 USA
SUMMARY:Warnicke Double Double
URL:/site/bmx_races/380646
END:VEVENT
END:VCALENDAR
