BEGIN:VCALENDAR
VERSION:2.0
PRODID:icalendar-ruby
CALSCALE:GREGORIAN
METHOD:PUBLISH
BEGIN:VEVENT
DTSTAMP:20260425T125439Z
UID:458ddb64-cf8c-48e7-b7b9-7d3ee2eb789d
DTSTART;VALUE=DATE:20181014
DTEND;VALUE=DATE:20181014
DESCRIPTION:Boomtown BMX
LOCATION:17760 Shasta Dam Blvd  Shasta Lake CA 96019 USA
SUMMARY:Standard Single Single
URL:/site/bmx_races/380519
END:VEVENT
END:VCALENDAR
