BEGIN:VCALENDAR
VERSION:2.0
PRODID:icalendar-ruby
CALSCALE:GREGORIAN
METHOD:PUBLISH
BEGIN:VEVENT
DTSTAMP:20260424T115224Z
UID:f1fdd130-0321-4019-b17f-1cf2e2a10b4e
DTSTART;VALUE=DATE:20180520
DTEND;VALUE=DATE:20180520
DESCRIPTION:Boomtown BMX
LOCATION:17760 Shasta Dam Blvd  Shasta Lake CA 96019 USA
SUMMARY:Standard Single Single
URL:/site/bmx_races/380498
END:VEVENT
END:VCALENDAR
