BEGIN:VCALENDAR
VERSION:2.0
PRODID:icalendar-ruby
CALSCALE:GREGORIAN
METHOD:PUBLISH
BEGIN:VEVENT
DTSTAMP:20260424T215502Z
UID:04969ad3-a690-43b0-a1be-548719647244
DTSTART;VALUE=DATE:20180407
DTEND;VALUE=DATE:20180407
DESCRIPTION:Circle City BMX
LOCATION:Westgate Park    100 Recreation Rd Dothan AL 36305 USA
SUMMARY:Earned Double
URL:/site/bmx_races/380288
END:VEVENT
END:VCALENDAR
