BEGIN:VCALENDAR
VERSION:2.0
PRODID:icalendar-ruby
CALSCALE:GREGORIAN
METHOD:PUBLISH
BEGIN:VEVENT
DTSTAMP:20260425T010821Z
UID:023263d1-3622-4023-a8eb-bf036bc1bdf8
DTSTART;VALUE=DATE:20180818
DTEND;VALUE=DATE:20180818
DESCRIPTION:West Texas BMX
LOCATION:2101 E Cuthbert  Midland TX 79706 USA
SUMMARY:Standard Single Single
URL:/site/bmx_races/379807
END:VEVENT
END:VCALENDAR
