BEGIN:VCALENDAR
VERSION:2.0
PRODID:icalendar-ruby
CALSCALE:GREGORIAN
METHOD:PUBLISH
BEGIN:VEVENT
DTSTAMP:20260425T120818Z
UID:7ee4d219-a225-4b45-8e6c-5e8cb5c2482a
DTSTART;VALUE=DATE:20180612
DTEND;VALUE=DATE:20180612
DESCRIPTION:Air Time BMX
LOCATION:5051 S Frankwood Ave  Reedley CA 93654 USA
SUMMARY:Standard Single Single
URL:/site/bmx_races/379715
END:VEVENT
END:VCALENDAR
