BEGIN:VCALENDAR
VERSION:2.0
PRODID:icalendar-ruby
CALSCALE:GREGORIAN
METHOD:PUBLISH
BEGIN:VEVENT
DTSTAMP:20260425T024728Z
UID:a49dc59c-b10e-4066-b809-62e0c3e6aed6
DTSTART;VALUE=DATE:20180706
DTEND;VALUE=DATE:20180706
DESCRIPTION:Music City BMX Association
LOCATION:2901 Bell Road  Nashville TN 37217 USA
SUMMARY:Standard Single Single
URL:/site/bmx_races/379553
END:VEVENT
END:VCALENDAR
